BEGIN:VCALENDAR
VERSION:2.0
PRODID:-//Zurich Technology Solutions - ECPv5.16.4//NONSGML v1.0//EN
CALSCALE:GREGORIAN
METHOD:PUBLISH
X-WR-CALNAME:Zurich Technology Solutions
X-ORIGINAL-URL:https://zurichtechsolutions.crosspointcreative.net
X-WR-CALDESC:Events for Zurich Technology Solutions
BEGIN:VTIMEZONE
TZID:America/Los_Angeles
BEGIN:DAYLIGHT
TZOFFSETFROM:-0800
TZOFFSETTO:-0700
TZNAME:PDT
DTSTART:20170312T100000
END:DAYLIGHT
BEGIN:STANDARD
TZOFFSETFROM:-0700
TZOFFSETTO:-0800
TZNAME:PST
DTSTART:20171105T090000
END:STANDARD
END:VTIMEZONE
BEGIN:VEVENT
DTSTART;VALUE=DATE:20171231
DTEND;VALUE=DATE:20180101
DTSTAMP:20260422T094851
CREATED:20171201T190612Z
LAST-MODIFIED:20180627T223615Z
UID:25270-1514678400-1514764799@zurichtechsolutions.crosspointcreative.net
SUMMARY:Zurich to Exhibit at 2018 TIA Annual Conference in Dallas\, TX
DESCRIPTION:Arlington\, Va. (June 7\, 2017) – The Telecommunications Industry Association (TIA)\, the leading association representing the manufacturers and suppliers of high-tech communications networks\, announced today that\, in 2018\, it will again join with AT&T to host an event in Dallas\, Texas. This will be the fourth year that TIA and AT&T have co-located conferences. The 2018 AT&T Supplier Conference will be an invitation-only event\, while TIA’s event will be open to the industry. \nTIA frequently convenes leaders from across the communications ecosystem to evaluate important technology\, business and public policy issues related to the network of the future. The 2018 event will continue an interactive\, outcomes-focused format\, with educational sessions on connectivity infrastructure\, operating next-generation networks and connecting the Internet of Things. \nMore information about all TIA events is available here. Details about next year’s Dallas event will be announced in late 2017. \n\n\n\n\n 
URL:https://zurichtechsolutions.crosspointcreative.net/event/zurich-to-exhibit-at-2018-tia-annual-conference-in-dallas-tx/
END:VEVENT
END:VCALENDAR