BEGIN:VCALENDAR
VERSION:2.0
PRODID:-//Zurich Technology Solutions - ECPv5.16.4//NONSGML v1.0//EN
CALSCALE:GREGORIAN
METHOD:PUBLISH
X-WR-CALNAME:Zurich Technology Solutions
X-ORIGINAL-URL:https://zurichtechsolutions.crosspointcreative.net
X-WR-CALDESC:Events for Zurich Technology Solutions
BEGIN:VTIMEZONE
TZID:America/Los_Angeles
BEGIN:DAYLIGHT
TZOFFSETFROM:-0800
TZOFFSETTO:-0700
TZNAME:PDT
DTSTART:20180311T100000
END:DAYLIGHT
BEGIN:STANDARD
TZOFFSETFROM:-0700
TZOFFSETTO:-0800
TZNAME:PST
DTSTART:20181104T090000
END:STANDARD
END:VTIMEZONE
BEGIN:VEVENT
DTSTART;VALUE=DATE:20181001
DTEND;VALUE=DATE:20181004
DTSTAMP:20260422T094821
CREATED:20180618T154358Z
LAST-MODIFIED:20180920T131937Z
UID:25437-1538352000-1538611199@zurichtechsolutions.crosspointcreative.net
SUMMARY:Zurich at CCA Annual Convention 2018 - Booth #203
DESCRIPTION:Come Visit Us!  Booth #203  In an increasingly mobile world\, carriers provide the services that make the Internet of Things possible. CCA’s Annual Convention is the only North American event to focus exclusively on smart strategies\, technology innovations\, and business opportunities for carriers in this brave new world. As a result\, it brings together more senior decision makers from more carrier organizations than any other tradeshow in the United States. \nThe Annual Convention’s expanded educational program\, networking opportunities and exhibit floor will explore technology trends that are changing the way we work and live\, and will provide a platform for companies to reach the lucrative competitive carrier market\, which spends $15 billion annually on products and services.
URL:https://zurichtechsolutions.crosspointcreative.net/event/zurich-cca-annual-convention-2018/
ATTACH;FMTTYPE=image/png:https://zurichtechsolutions.crosspointcreative.net/wp-content/uploads/2018/06/unnamed.png
ORGANIZER;CN="CCA":MAILTO:info@zurichtechsolutions.com
END:VEVENT
END:VCALENDAR