BEGIN:VCALENDAR
VERSION:2.0
PRODID:-//Zurich Technology Solutions - ECPv5.16.4//NONSGML v1.0//EN
CALSCALE:GREGORIAN
METHOD:PUBLISH
X-WR-CALNAME:Zurich Technology Solutions
X-ORIGINAL-URL:https://zurichtechsolutions.crosspointcreative.net
X-WR-CALDESC:Events for Zurich Technology Solutions
BEGIN:VTIMEZONE
TZID:America/Los_Angeles
BEGIN:DAYLIGHT
TZOFFSETFROM:-0800
TZOFFSETTO:-0700
TZNAME:PDT
DTSTART:20190310T100000
END:DAYLIGHT
BEGIN:STANDARD
TZOFFSETFROM:-0700
TZOFFSETTO:-0800
TZNAME:PST
DTSTART:20191103T090000
END:STANDARD
END:VTIMEZONE
BEGIN:VEVENT
DTSTART;VALUE=DATE:20190408
DTEND;VALUE=DATE:20190411
DTSTAMP:20260422T094630
CREATED:20190131T031223Z
LAST-MODIFIED:20190131T031223Z
UID:25657-1554681600-1554940799@zurichtechsolutions.crosspointcreative.net
SUMMARY:CCA Mobile Carriers Show 2019
DESCRIPTION:In an increasingly mobile world\, carriers provide the services that make the Internet of Things possible. CCA’s Mobile Carriers Show is the only North American event to focus exclusively on smart strategies\, technology innovations\, and business opportunities for carriers in this brave new world. As a result\, it brings together more senior decision makers from more carrier organizations than any other tradeshow in the United States.
URL:https://zurichtechsolutions.crosspointcreative.net/event/cca-mobile-carriers-show-2019/
LOCATION:Denver\, CO\, Gaylord Rockies Convention Center\, Denver\, CO\, United States
ATTACH;FMTTYPE=image/jpeg:https://zurichtechsolutions.crosspointcreative.net/wp-content/uploads/2019/01/aglevent-cca-mocile-carriers-show.jpg
ORGANIZER;CN="CCA":MAILTO:info@zurichtechsolutions.com
END:VEVENT
END:VCALENDAR