BEGIN:VCALENDAR
VERSION:2.0
PRODID:-//Zurich Technology Solutions - ECPv5.16.4//NONSGML v1.0//EN
CALSCALE:GREGORIAN
METHOD:PUBLISH
X-WR-CALNAME:Zurich Technology Solutions
X-ORIGINAL-URL:https://zurichtechsolutions.crosspointcreative.net
X-WR-CALDESC:Events for Zurich Technology Solutions
BEGIN:VTIMEZONE
TZID:America/New_York
BEGIN:DAYLIGHT
TZOFFSETFROM:-0500
TZOFFSETTO:-0400
TZNAME:EDT
DTSTART:20180311T070000
END:DAYLIGHT
BEGIN:STANDARD
TZOFFSETFROM:-0400
TZOFFSETTO:-0500
TZNAME:EST
DTSTART:20181104T060000
END:STANDARD
END:VTIMEZONE
BEGIN:VEVENT
DTSTART;VALUE=DATE:20180408
DTEND;VALUE=DATE:20180411
DTSTAMP:20260422T094646
CREATED:20180306T195529Z
LAST-MODIFIED:20180627T223146Z
UID:25373-1523145600-1523404799@zurichtechsolutions.crosspointcreative.net
SUMMARY:2018 NC Telecom Conference & Expo
DESCRIPTION:Zurich will be exhibiting at the 2018 NC Telecom Conference & Expo – “A World of Opportunity”
URL:https://zurichtechsolutions.crosspointcreative.net/event/2018-nc-telecom-conference-expo/
LOCATION:Pinehurst Resot\, 80 Carolina Vista Drive\, Pinehurst\, NC\, 28374\, United States
END:VEVENT
END:VCALENDAR